View In:
ArcGIS JavaScript
ArcGIS Online Map Viewer
ArcGIS Earth
Service Description: Imagery/Cary2021Aerials
Name: Imagery/Cary2021Aerials
Description:
Single Fused Map Cache: true
Tile Info:
- Height: 256
- Width: 256
- DPI: 96
-
Levels of Detail: 24
-
Level ID: 0
[ Start Tile, End Tile ]
- Resolution: 967512.1655745509
- Scale: 1.1145762438943706E9
-
Level ID: 1
[ Start Tile, End Tile ]
- Resolution: 483756.08278727543
- Scale: 5.572881219471853E8
-
Level ID: 2
[ Start Tile, End Tile ]
- Resolution: 241878.04139363772
- Scale: 2.7864406097359264E8
-
Level ID: 3
[ Start Tile, End Tile ]
- Resolution: 120939.02069681886
- Scale: 1.3932203048679632E8
-
Level ID: 4
[ Start Tile, End Tile ]
- Resolution: 60469.51034840943
- Scale: 6.966101524339816E7
-
Level ID: 5
[ Start Tile, End Tile ]
- Resolution: 30234.755174204714
- Scale: 3.483050762169908E7
-
Level ID: 6
[ Start Tile, End Tile ]
- Resolution: 15117.377587102357
- Scale: 1.741525381084954E7
-
Level ID: 7
[ Start Tile, End Tile ]
- Resolution: 7558.688793551179
- Scale: 8707626.90542477
-
Level ID: 8
[ Start Tile, End Tile ]
- Resolution: 3779.3443967755893
- Scale: 4353813.452712385
-
Level ID: 9
[ Start Tile, End Tile ]
- Resolution: 1889.6721983877947
- Scale: 2176906.7263561925
-
Level ID: 10
[ Start Tile, End Tile ]
- Resolution: 944.8360991938973
- Scale: 1088453.3631780962
-
Level ID: 11
[ Start Tile, End Tile ]
- Resolution: 472.41804959694866
- Scale: 544226.6815890481
-
Level ID: 12
[ Start Tile, End Tile ]
- Resolution: 236.20902479847433
- Scale: 272113.34079452406
-
Level ID: 13
[ Start Tile, End Tile ]
- Resolution: 118.10451239923717
- Scale: 136056.67039726203
-
Level ID: 14
[ Start Tile, End Tile ]
- Resolution: 59.05225619961858
- Scale: 68028.33519863102
-
Level ID: 15
[ Start Tile, End Tile ]
- Resolution: 29.52612809980929
- Scale: 34014.16759931551
-
Level ID: 16
[ Start Tile, End Tile ]
- Resolution: 14.763064049904646
- Scale: 17007.083799657754
-
Level ID: 17
[ Start Tile, End Tile ]
- Resolution: 7.381532024952323
- Scale: 8503.541899828877
-
Level ID: 18
[ Start Tile, End Tile ]
- Resolution: 3.6907660124761614
- Scale: 4251.7709499144385
-
Level ID: 19
[ Start Tile, End Tile ]
- Resolution: 1.8453830062380807
- Scale: 2125.8854749572192
-
Level ID: 20
[ Start Tile, End Tile ]
- Resolution: 0.9226915031190404
- Scale: 1062.9427374786096
-
Level ID: 21
[ Start Tile, End Tile ]
- Resolution: 0.4613457515595202
- Scale: 531.4713687393048
-
Level ID: 22
[ Start Tile, End Tile ]
- Resolution: 0.2306728757797601
- Scale: 265.7356843696524
-
Level ID: 23
[ Start Tile, End Tile ]
- Resolution: 0.11533643788988004
- Scale: 132.8678421848262
- Format: PNG
- Compression Quality: 0.0
- LERC Error: NaN
- Origin: X: -1.2184155719354251E8
Y: 1.0696902451173094E8
- Spatial Reference: 103122
(6543)
LatestVCSWkid(0)
Storage Info:
- Storage Format: esriMapCacheStorageModeCompactV2
- Packet Size: 128
Extent:
XMin: 1980000.0
YMin: 635000.0
XMax: 2105000.0
YMax: 800000.0
Spatial Reference: 103122
(6543)
LatestVCSWkid(0)
Initial Extent:
XMin: 1980000.0
YMin: 635000.0
XMax: 2105000.0
YMax: 800000.0
Spatial Reference: 103122
(6543)
LatestVCSWkid(0)
Full Extent:
XMin: 1980000.0
YMin: 635000.0
XMax: 2105000.0
YMax: 800000.0
Spatial Reference: 103122
(6543)
LatestVCSWkid(0)
Pixel Size X: 0.5
Pixel Size Y: 0.5
Band Count: 3
Pixel Type: U8
RasterFunction Infos: {"rasterFunctionInfos": [{
"name": "None",
"description": "",
"help": ""
}]}
Mensuration Capabilities: Basic
Inspection Capabilities:
Has Histograms: true
Has Colormap: false
Has Multi Dimensions : false
Rendering Rule:
Min Scale: 34014.16759931551
Max Scale: 132.8678421848262
Min LOD: 15
Max LOD: 23
Copyright Text:
Service Data Type: esriImageServiceDataTypeRGB
Min Values: 0, 0, 0
Max Values: 255, 255, 255
Mean Values: 98.512897498825, 97.732313677902, 86.348290905409
Standard Deviation Values: 56.451683413657, 48.817759979361, 42.374582313079
Object ID Field:
Fields:
None
Default Mosaic Method: Center
Allowed Mosaic Methods:
SortField:
SortValue: null
Mosaic Operator: First
Default Compression Quality: 75
Default Resampling Method: Bilinear
Max Record Count: null
Max Image Height: 4100
Max Image Width: 15000
Max Download Image Count: null
Max Mosaic Image Count: null
Allow Raster Function: true
Allow Copy: true
Allow Analysis: true
Allow Compute TiePoints: false
Supports Statistics: false
Supports Advanced Queries: false
Use StandardizedQueries: true
Raster Type Infos:
Name: Raster Dataset
Description: Supports all ArcGIS Raster Datasets
Help:
Has Raster Attribute Table: false
Edit Fields Info: null
Ownership Based AccessControl For Rasters: null
Child Resources:
Info
Histograms
Statistics
Key Properties
Legend
Raster Function Infos
Supported Operations:
Export Image
Identify
Measure
Compute Histograms
Compute Statistics Histograms
Get Samples
Compute Class Statistics
Query Boundary
Compute Pixel Location
Compute Angles
Validate
Project