{
 "currentVersion": 11.5,
 "serviceDescription": "Imagery/WakeCoSoilSurvey",
 "serviceItemId": "78ef3bfd65704d069834afecbf045116",
 "name": "Imagery/WakeCoSoilSurvey",
 "description": "",
 "extent": {
  "xmin": 2016004.974251482,
  "ymin": 689760.0772640299,
  "xmax": 2082369.4992414766,
  "ymax": 769591.5863842558,
  "spatialReference": {
   "wkid": 102719,
   "latestWkid": 2264
  }
 },
 "initialExtent": {
  "xmin": 2016004.974251482,
  "ymin": 689760.0772640299,
  "xmax": 2082369.4992414766,
  "ymax": 769591.5863842558,
  "spatialReference": {
   "wkid": 102719,
   "latestWkid": 2264
  }
 },
 "fullExtent": {
  "xmin": 2016004.974251482,
  "ymin": 689760.0772640299,
  "xmax": 2082369.4992414766,
  "ymax": 769591.5863842558,
  "spatialReference": {
   "wkid": 102719,
   "latestWkid": 2264
  }
 },
 "sortableFields": "MinPS,MaxPS,LowPS,HighPS,CenterX,CenterY,ZOrder,Shape_Length,Shape_Area",
 "bandCount": 3,
 "pixelType": "U8",
 "minValues": [
  0,
  0,
  0
 ],
 "maxValues": [
  255,
  255,
  255
 ],
 "meanValues": [
  148.21434445721533,
  141.36360693855443,
  115.42284293131465
 ],
 "stdvValues": [
  32.961376659608234,
  34.52067547661973,
  39.27331719732684
 ],
 "serviceProperties": "NorthWest<\/MosaicMethod>First<\/MosaicOperator>true<\/SortAscending><\/LockImageID>Name<\/TileOrderField>0<\/TileOrderBase>600.000000<\/AvgImageSpacingX>300.000000<\/AvgImageSpacingY>0.0<\/ViewPointX>0.0<\/ViewPointY>0.0<\/ViewPointDefShiftX>0.0<\/ViewPointDefShiftY>None<\/CompressionMethod>75<\/CompressionQuality>0.010000<\/CompressionTolerance>Bilinear<\/SamplingMethod><\/ImageServiceProperties><\/ImageServer>",
 "allowedFields": "Name,MinPS,MaxPS,LowPS,HighPS,Tag,GroupName,ProductName,CenterX,CenterY,ZOrder,Shape_Length,Shape_Area",
 "hasMultidimensions": false,
 "pixelSizeX": 4.39093059348913,
 "pixelSizeY": 4.390930593489132,
 "meanPixelSize": 1.3383583216121304,
 "datasetFormat": "AMD",
 "uncompressedSize": 824362902,
 "blockWidth": 2048,
 "blockHeight": 256,
 "compressionType": "None",
 "bandNames": [
  "Band_1",
  "Band_2",
  "Band_3"
 ],
 "allowCopy": true,
 "allowAnalysis": true,
 "itemAccess": false,
 "inspectionCapabilities": "",
 "minPixelSize": 0.11533643788988004,
 "maxPixelSize": 14.763064049904646,
 "copyrightText": "",
 "serviceDataType": "esriImageServiceDataTypeRGB",
 "serviceSourceType": "esriImageServiceSourceTypeMosaicDataset",
 "objectIdField": "OBJECTID",
 "fields": [
  {
   "name": "OBJECTID",
   "type": "esriFieldTypeOID",
   "alias": "OBJECTID",
   "domain": null
  },
  {
   "name": "Shape",
   "type": "esriFieldTypeGeometry",
   "alias": "Shape",
   "domain": null
  },
  {
   "name": "Name",
   "type": "esriFieldTypeString",
   "alias": "Name",
   "domain": null,
   "length": 200
  },
  {
   "name": "MinPS",
   "type": "esriFieldTypeDouble",
   "alias": "MinPS",
   "domain": null
  },
  {
   "name": "MaxPS",
   "type": "esriFieldTypeDouble",
   "alias": "MaxPS",
   "domain": null
  },
  {
   "name": "LowPS",
   "type": "esriFieldTypeDouble",
   "alias": "LowPS",
   "domain": null
  },
  {
   "name": "HighPS",
   "type": "esriFieldTypeDouble",
   "alias": "HighPS",
   "domain": null
  },
  {
   "name": "Category",
   "type": "esriFieldTypeInteger",
   "alias": "Category",
   "domain": {
    "type": "codedValue",
    "name": "MosaicCatalogItemCategoryDomain",
    "description": "Catalog item categories.",
    "codedValues": [
     {
      "name": "Unknown",
      "code": 0
     },
     {
      "name": "Primary",
      "code": 1
     },
     {
      "name": "Overview",
      "code": 2
     },
     {
      "name": "Unprocessed Overview",
      "code": 3
     },
     {
      "name": "Partial Overview",
      "code": 4
     },
     {
      "name": "Uploaded",
      "code": 253
     },
     {
      "name": "Incomplete",
      "code": 254
     },
     {
      "name": "Custom",
      "code": 255
     }
    ],
    "mergePolicy": "esriMPTDefaultValue",
    "splitPolicy": "esriSPTDefaultValue"
   }
  },
  {
   "name": "Tag",
   "type": "esriFieldTypeString",
   "alias": "Tag",
   "domain": null,
   "length": 100
  },
  {
   "name": "GroupName",
   "type": "esriFieldTypeString",
   "alias": "GroupName",
   "domain": null,
   "length": 100
  },
  {
   "name": "ProductName",
   "type": "esriFieldTypeString",
   "alias": "ProductName",
   "domain": null,
   "length": 100
  },
  {
   "name": "CenterX",
   "type": "esriFieldTypeDouble",
   "alias": "CenterX",
   "domain": null
  },
  {
   "name": "CenterY",
   "type": "esriFieldTypeDouble",
   "alias": "CenterY",
   "domain": null
  },
  {
   "name": "ZOrder",
   "type": "esriFieldTypeInteger",
   "alias": "ZOrder",
   "domain": null
  },
  {
   "name": "Shape_Length",
   "type": "esriFieldTypeDouble",
   "alias": "Shape_Length",
   "domain": null
  },
  {
   "name": "Shape_Area",
   "type": "esriFieldTypeDouble",
   "alias": "Shape_Area",
   "domain": null
  }
 ],
 "capabilities": "Image,Metadata,Catalog,Mensuration",
 "defaultMosaicMethod": "Northwest",
 "allowedMosaicMethods": "NorthWest,Center,LockRaster,ByAttribute,Nadir,Viewpoint,Seamline,None",
 "sortField": "",
 "sortValue": null,
 "sortAscending": true,
 "mosaicOperator": "First",
 "maxDownloadSizeLimit": 2048,
 "defaultCompressionQuality": 75,
 "defaultResamplingMethod": "Bilinear",
 "maxImageHeight": 4100,
 "maxImageWidth": 15000,
 "maxRecordCount": 1000,
 "maxDownloadImageCount": 20,
 "maxMosaicImageCount": 20,
 "singleFusedMapCache": true,
 "tileInfo": {
  "rows": 256,
  "cols": 256,
  "dpi": 96,
  "format": "PNG",
  "compressionQuality": 0,
  "origin": {
   "x": -1.2184155719092584E8,
   "y": 1.0696902451173094E8
  },
  "spatialReference": {
   "wkid": 102719,
   "latestWkid": 2264
  },
  "lods": [
   {
    "level": 0,
    "resolution": 967512.1655745509,
    "scale": 1.1145762438943706E9
   },
   {
    "level": 1,
    "resolution": 483756.08278727543,
    "scale": 5.572881219471853E8
   },
   {
    "level": 2,
    "resolution": 241878.04139363772,
    "scale": 2.7864406097359264E8
   },
   {
    "level": 3,
    "resolution": 120939.02069681886,
    "scale": 1.3932203048679632E8
   },
   {
    "level": 4,
    "resolution": 60469.51034840943,
    "scale": 6.966101524339816E7
   },
   {
    "level": 5,
    "resolution": 30234.755174204714,
    "scale": 3.483050762169908E7
   },
   {
    "level": 6,
    "resolution": 15117.377587102357,
    "scale": 1.741525381084954E7
   },
   {
    "level": 7,
    "resolution": 7558.688793551179,
    "scale": 8707626.90542477
   },
   {
    "level": 8,
    "resolution": 3779.3443967755893,
    "scale": 4353813.452712385
   },
   {
    "level": 9,
    "resolution": 1889.6721983877947,
    "scale": 2176906.7263561925
   },
   {
    "level": 10,
    "resolution": 944.8360991938973,
    "scale": 1088453.3631780962
   },
   {
    "level": 11,
    "resolution": 472.41804959694866,
    "scale": 544226.6815890481
   },
   {
    "level": 12,
    "resolution": 236.20902479847433,
    "scale": 272113.34079452406
   },
   {
    "level": 13,
    "resolution": 118.10451239923717,
    "scale": 136056.67039726203
   },
   {
    "level": 14,
    "resolution": 59.05225619961858,
    "scale": 68028.33519863102
   },
   {
    "level": 15,
    "resolution": 29.52612809980929,
    "scale": 34014.16759931551
   },
   {
    "level": 16,
    "resolution": 14.763064049904646,
    "scale": 17007.083799657754
   },
   {
    "level": 17,
    "resolution": 7.381532024952323,
    "scale": 8503.541899828877
   },
   {
    "level": 18,
    "resolution": 3.6907660124761614,
    "scale": 4251.7709499144385
   },
   {
    "level": 19,
    "resolution": 1.8453830062380807,
    "scale": 2125.8854749572192
   },
   {
    "level": 20,
    "resolution": 0.9226915031190404,
    "scale": 1062.9427374786096
   },
   {
    "level": 21,
    "resolution": 0.4613457515595202,
    "scale": 531.4713687393048
   },
   {
    "level": 22,
    "resolution": 0.2306728757797601,
    "scale": 265.7356843696524
   },
   {
    "level": 23,
    "resolution": 0.11533643788988004,
    "scale": 132.8678421848262
   }
  ]
 },
 "storageInfo": {
  "storageFormat": "esriMapCacheStorageModeCompactV2",
  "packetSize": 128
 },
 "cacheType": "Map",
 "allowRasterFunction": true,
 "rasterFunctionInfos": [
  {
   "name": "None",
   "description": "Make a Raster or Raster Dataset into a Function Raster Dataset.",
   "help": ""
  },
  {
   "name": "None",
   "description": "Make a Raster or Raster Dataset into a Function Raster Dataset.",
   "help": ""
  }
 ],
 "rasterTypeInfos": [
  {
   "name": "Raster Dataset",
   "description": "Supports all ArcGIS Raster Datasets",
   "help": ""
  }
 ],
 "mensurationCapabilities": "Basic",
 "hasHistograms": true,
 "hasColormap": false,
 "hasRasterAttributeTable": false,
 "minScale": 17007.083799657754,
 "maxScale": 132.8678421848262,
 "minLOD": 16,
 "maxLOD": 23,
 "exportTilesAllowed": false,
 "supportsStatistics": true,
 "supportsAdvancedQueries": true,
 "editFieldsInfo": null,
 "ownershipBasedAccessControlForRasters": null,
 "allowComputeTiePoints": false,
 "useStandardizedQueries": true,
 "advancedQueryCapabilities": {
  "useStandardizedQueries": true,
  "supportsStatistics": true,
  "supportsOrderBy": true,
  "supportsDistinct": true,
  "supportsPagination": true
 },
 "spatialReference": {
  "wkid": 102719,
  "latestWkid": 2264
 }
}
