{
 "currentVersion": 11.5,
 "serviceDescription": "Imagery/Cary2024Aerials",
 "serviceItemId": "d908435cc2294d92928c81bc3ee3aa7a",
 "name": "Imagery/Cary2024Aerials",
 "description": "",
 "extent": {
  "xmin": 2010000,
  "ymin": 685000,
  "xmax": 2085000,
  "ymax": 785000,
  "spatialReference": {
   "wkid": 103122,
   "latestWkid": 6543
  }
 },
 "initialExtent": {
  "xmin": 2010000,
  "ymin": 685000,
  "xmax": 2085000,
  "ymax": 785000,
  "spatialReference": {
   "wkid": 103122,
   "latestWkid": 6543
  }
 },
 "fullExtent": {
  "xmin": 2010000,
  "ymin": 685000,
  "xmax": 2085000,
  "ymax": 785000,
  "spatialReference": {
   "wkid": 103122,
   "latestWkid": 6543
  }
 },
 "sortableFields": "",
 "bandCount": 5,
 "pixelType": "U8",
 "minValues": [
  40,
  34,
  20,
  49,
  0
 ],
 "maxValues": [
  255,
  255,
  255,
  255,
  255
 ],
 "meanValues": [
  202.81274131274,
  201.10576392719,
  198.32984004413,
  214.43160507446,
  93.531439602868
 ],
 "stdvValues": [
  68.978489039552,
  71.028906857409,
  74.684627449729,
  53.396823661909,
  121.313813495
 ],
 "serviceProperties": "Center<\/MosaicMethod>First<\/MosaicOperator>true<\/SortAscending><\/LockImageID><\/TileOrderField>0<\/TileOrderBase>0.000000<\/AvgImageSpacingX>0.000000<\/AvgImageSpacingY>0.0<\/ViewPointX>0.0<\/ViewPointY>0.0<\/ViewPointDefShiftX>0.0<\/ViewPointDefShiftY>None<\/CompressionMethod>75<\/CompressionQuality>0.010000<\/CompressionTolerance>Bilinear<\/SamplingMethod><\/ImageServiceProperties><\/ImageServer>",
 "allowedFields": "",
 "hasMultidimensions": false,
 "pixelSizeX": 0.25,
 "pixelSizeY": 0.25,
 "meanPixelSize": 0.07620015240030481,
 "datasetFormat": "MrSID",
 "uncompressedSize": 600000000000,
 "blockWidth": 1024,
 "blockHeight": 128,
 "compressionType": "Wavelet (MG4)",
 "bandNames": [
  "Band_1",
  "Band_2",
  "Band_3",
  "Band_4",
  "Band_5"
 ],
 "allowCopy": true,
 "allowAnalysis": true,
 "itemAccess": false,
 "inspectionCapabilities": "",
 "minPixelSize": 0.11533643788988004,
 "maxPixelSize": 7.381532024952323,
 "copyrightText": "",
 "serviceDataType": "esriImageServiceDataTypeGeneric",
 "serviceSourceType": "esriImageServiceSourceTypeDataset",
 "objectIdField": "",
 "fields": [],
 "capabilities": "Image,Metadata,Mensuration",
 "defaultMosaicMethod": "Center",
 "allowedMosaicMethods": "",
 "sortField": "",
 "sortValue": null,
 "sortAscending": true,
 "mosaicOperator": "First",
 "defaultCompressionQuality": 75,
 "defaultResamplingMethod": "Bilinear",
 "maxImageHeight": 4100,
 "maxImageWidth": 15000,
 "singleFusedMapCache": true,
 "tileInfo": {
  "rows": 256,
  "cols": 256,
  "dpi": 96,
  "format": "PNG",
  "compressionQuality": 0,
  "origin": {
   "x": -1.2184155719354251E8,
   "y": 1.0696902451173094E8
  },
  "spatialReference": {
   "wkid": 103122,
   "latestWkid": 6543
  },
  "lods": [
   {
    "level": 0,
    "resolution": 967512.1655745509,
    "scale": 1.1145762438943706E9
   },
   {
    "level": 1,
    "resolution": 483756.08278727543,
    "scale": 5.572881219471853E8
   },
   {
    "level": 2,
    "resolution": 241878.04139363772,
    "scale": 2.7864406097359264E8
   },
   {
    "level": 3,
    "resolution": 120939.02069681886,
    "scale": 1.3932203048679632E8
   },
   {
    "level": 4,
    "resolution": 60469.51034840943,
    "scale": 6.966101524339816E7
   },
   {
    "level": 5,
    "resolution": 30234.755174204714,
    "scale": 3.483050762169908E7
   },
   {
    "level": 6,
    "resolution": 15117.377587102357,
    "scale": 1.741525381084954E7
   },
   {
    "level": 7,
    "resolution": 7558.688793551179,
    "scale": 8707626.90542477
   },
   {
    "level": 8,
    "resolution": 3779.3443967755893,
    "scale": 4353813.452712385
   },
   {
    "level": 9,
    "resolution": 1889.6721983877947,
    "scale": 2176906.7263561925
   },
   {
    "level": 10,
    "resolution": 944.8360991938973,
    "scale": 1088453.3631780962
   },
   {
    "level": 11,
    "resolution": 472.41804959694866,
    "scale": 544226.6815890481
   },
   {
    "level": 12,
    "resolution": 236.20902479847433,
    "scale": 272113.34079452406
   },
   {
    "level": 13,
    "resolution": 118.10451239923717,
    "scale": 136056.67039726203
   },
   {
    "level": 14,
    "resolution": 59.05225619961858,
    "scale": 68028.33519863102
   },
   {
    "level": 15,
    "resolution": 29.52612809980929,
    "scale": 34014.16759931551
   },
   {
    "level": 16,
    "resolution": 14.763064049904646,
    "scale": 17007.083799657754
   },
   {
    "level": 17,
    "resolution": 7.381532024952323,
    "scale": 8503.541899828877
   },
   {
    "level": 18,
    "resolution": 3.6907660124761614,
    "scale": 4251.7709499144385
   },
   {
    "level": 19,
    "resolution": 1.8453830062380807,
    "scale": 2125.8854749572192
   },
   {
    "level": 20,
    "resolution": 0.9226915031190404,
    "scale": 1062.9427374786096
   },
   {
    "level": 21,
    "resolution": 0.4613457515595202,
    "scale": 531.4713687393048
   },
   {
    "level": 22,
    "resolution": 0.2306728757797601,
    "scale": 265.7356843696524
   },
   {
    "level": 23,
    "resolution": 0.11533643788988004,
    "scale": 132.8678421848262
   }
  ]
 },
 "storageInfo": {
  "storageFormat": "esriMapCacheStorageModeCompactV2",
  "packetSize": 128
 },
 "cacheType": "Map",
 "allowRasterFunction": true,
 "rasterFunctionInfos": [
  {
   "name": "None",
   "description": "",
   "help": ""
  }
 ],
 "rasterTypeInfos": [
  {
   "name": "Raster Dataset",
   "description": "Supports all ArcGIS Raster Datasets",
   "help": ""
  }
 ],
 "mensurationCapabilities": "Basic",
 "hasHistograms": true,
 "hasColormap": false,
 "hasRasterAttributeTable": false,
 "minScale": 8503.541899828877,
 "maxScale": 132.8678421848262,
 "minLOD": 17,
 "maxLOD": 23,
 "exportTilesAllowed": false,
 "supportsStatistics": false,
 "supportsAdvancedQueries": false,
 "editFieldsInfo": null,
 "ownershipBasedAccessControlForRasters": null,
 "allowComputeTiePoints": false,
 "useStandardizedQueries": true,
 "advancedQueryCapabilities": {
  "useStandardizedQueries": true,
  "supportsStatistics": false,
  "supportsOrderBy": false,
  "supportsDistinct": false,
  "supportsPagination": false
 },
 "spatialReference": {
  "wkid": 103122,
  "latestWkid": 6543
 }
}
