{
 "currentVersion": 11.4,
 "cimVersion": "3.4.0",
 "serviceDescription": "",
 "mapName": "Map",
 "description": "",
 "copyrightText": "",
 "supportsDynamicLayers": false,
 "layers": [
  {
   "id": 0,
   "name": "Impervious Surface 2024",
   "parentLayerId": -1,
   "defaultVisibility": true,
   "subLayerIds": null,
   "minScale": 50000,
   "maxScale": 0,
   "type": "Feature Layer",
   "geometryType": "esriGeometryPolygon",
   "supportsDynamicLegends": true
  }
 ],
 "tables": [],
 "spatialReference": {
  "wkid": 103122,
  "latestWkid": 6543,
  "xyTolerance": 0.003280833333333333,
  "zTolerance": 0.001,
  "mTolerance": 0.001,
  "falseX": -121841900,
  "falseY": -93659000,
  "xyUnits": 3048.0060960121928,
  "falseZ": -100000,
  "zUnits": 10000,
  "falseM": -100000,
  "mUnits": 10000
 },
 "singleFusedMapCache": true,
 "tileInfo": {
  "rows": 256,
  "cols": 256,
  "dpi": 96,
  "format": "PNG",
  "compressionQuality": 0,
  "origin": {
   "x": -1.2184155719354251E8,
   "y": 1.0696902451173094E8
  },
  "spatialReference": {
   "wkid": 103122,
   "latestWkid": 6543,
   "xyTolerance": 0.003280833333333333,
   "zTolerance": 0.001,
   "mTolerance": 0.001,
   "falseX": -121841900,
   "falseY": -93659000,
   "xyUnits": 3048.0060960121928,
   "falseZ": -100000,
   "zUnits": 10000,
   "falseM": -100000,
   "mUnits": 10000
  },
  "lods": [
   {
    "level": 0,
    "resolution": 967512.1655745509,
    "scale": 1.1145762438943706E9
   },
   {
    "level": 1,
    "resolution": 483756.08278727543,
    "scale": 5.572881219471853E8
   },
   {
    "level": 2,
    "resolution": 241878.04139363772,
    "scale": 2.7864406097359264E8
   },
   {
    "level": 3,
    "resolution": 120939.02069681886,
    "scale": 1.3932203048679632E8
   },
   {
    "level": 4,
    "resolution": 60469.51034840943,
    "scale": 6.966101524339816E7
   },
   {
    "level": 5,
    "resolution": 30234.755174204714,
    "scale": 3.483050762169908E7
   },
   {
    "level": 6,
    "resolution": 15117.377587102357,
    "scale": 1.741525381084954E7
   },
   {
    "level": 7,
    "resolution": 7558.688793551179,
    "scale": 8707626.90542477
   },
   {
    "level": 8,
    "resolution": 3779.3443967755893,
    "scale": 4353813.452712385
   },
   {
    "level": 9,
    "resolution": 1889.6721983877947,
    "scale": 2176906.7263561925
   },
   {
    "level": 10,
    "resolution": 944.8360991938973,
    "scale": 1088453.3631780962
   },
   {
    "level": 11,
    "resolution": 472.41804959694866,
    "scale": 544226.6815890481
   },
   {
    "level": 12,
    "resolution": 236.20902479847433,
    "scale": 272113.34079452406
   },
   {
    "level": 13,
    "resolution": 118.10451239923717,
    "scale": 136056.67039726203
   },
   {
    "level": 14,
    "resolution": 59.05225619961858,
    "scale": 68028.33519863102
   },
   {
    "level": 15,
    "resolution": 29.52612809980929,
    "scale": 34014.16759931551
   },
   {
    "level": 16,
    "resolution": 14.763064049904646,
    "scale": 17007.083799657754
   },
   {
    "level": 17,
    "resolution": 7.381532024952323,
    "scale": 8503.541899828877
   },
   {
    "level": 18,
    "resolution": 3.6907660124761614,
    "scale": 4251.7709499144385
   },
   {
    "level": 19,
    "resolution": 1.8453830062380807,
    "scale": 2125.8854749572192
   },
   {
    "level": 20,
    "resolution": 0.9226915031190404,
    "scale": 1062.9427374786096
   },
   {
    "level": 21,
    "resolution": 0.4613457515595202,
    "scale": 531.4713687393048
   },
   {
    "level": 22,
    "resolution": 0.2306728757797601,
    "scale": 265.7356843696524
   },
   {
    "level": 23,
    "resolution": 0.11533643788988004,
    "scale": 132.8678421848262
   }
  ]
 },
 "storageInfo": {
  "storageFormat": "esriMapCacheStorageModeCompactV2",
  "packetSize": 128
 },
 "initialExtent": {
  "xmin": 2052437.2899926768,
  "ymin": 734148.7207864777,
  "xmax": 2075420.6233260103,
  "ymax": 750148.7207864777,
  "spatialReference": {
   "wkid": 103122,
   "latestWkid": 6543,
   "xyTolerance": 0.003280833333333333,
   "zTolerance": 0.001,
   "mTolerance": 0.001,
   "falseX": -121841900,
   "falseY": -93659000,
   "xyUnits": 3048.0060960121928,
   "falseZ": -100000,
   "zUnits": 10000,
   "falseM": -100000,
   "mUnits": 10000
  }
 },
 "fullExtent": {
  "xmin": 2009978.679605469,
  "ymin": 688733.0771223158,
  "xmax": 2080365.7071382254,
  "ymax": 781504.2547685653,
  "spatialReference": {
   "wkid": 103122,
   "latestWkid": 6543,
   "xyTolerance": 0.003280833333333333,
   "zTolerance": 0.001,
   "mTolerance": 0.001,
   "falseX": -121841900,
   "falseY": -93659000,
   "xyUnits": 3048.0060960121928,
   "falseZ": -100000,
   "zUnits": 10000,
   "falseM": -100000,
   "mUnits": 10000
  }
 },
 "datesInUnknownTimezone": false,
 "units": "esriFeet",
 "supportedImageFormatTypes": "PNG32,PNG24,PNG,JPG,DIB,TIFF,EMF,PS,PDF,GIF,SVG,SVGZ,BMP",
 "documentInfo": {
  "Title": "Map",
  "Author": "",
  "Comments": "",
  "Subject": "",
  "Category": "",
  "Version": "3.4.0",
  "AntialiasingMode": "Fast",
  "TextAntialiasingMode": "Force",
  "Keywords": ""
 },
 "supportsQueryDomains": true,
 "supportedQueryFormats": "JSON, geoJSON, PBF",
 "referenceScale": 0.0,
 "datumTransformations": [
  {
   "geoTransforms": [
    {
     "wkid": 108363,
     "latestWkid": 108363,
     "transformForward": true,
     "name": "WGS_1984_(ITRF08)_To_NAD_1983_2011"
    }
   ]
  },
  {
   "geoTransforms": [
    {
     "wkid": 108363,
     "latestWkid": 108363,
     "transformForward": false,
     "name": "WGS_1984_(ITRF08)_To_NAD_1983_2011"
    }
   ]
  },
  {
   "geoTransforms": [
    {
     "wkid": 108363,
     "latestWkid": 108363,
     "transformForward": true,
     "name": "WGS_1984_(ITRF08)_To_NAD_1983_2011"
    }
   ]
  },
  {
   "geoTransforms": [
    {
     "wkid": 108363,
     "latestWkid": 108363,
     "transformForward": false,
     "name": "WGS_1984_(ITRF08)_To_NAD_1983_2011"
    }
   ]
  }
 ],
 "supportsDatumTransformation": true,
 "archivingInfo": {
  "supportsHistoricMoment": false
 },
 "supportsClipping": true,
 "supportsSpatialFilter": true,
 "supportsTimeRelation": true,
 "supportsQueryDataElements": true,
 "mapUnits": {
  "uwkid": 9003
 },
 "maxSelectionCount": 2000,
 "maxRecordCount": 1000,
 "maxImageHeight": 4096,
 "maxImageWidth": 4096,
 "capabilities": "TilesOnly,Tilemap",
 "minLOD": 15,
 "maxLOD": 23,
 "minScale": 34014,
 "maxScale": 0,
 "exportTilesAllowed": false,
 "maxExportTilesCount": 100000,
 "supportedExtensions": "",
 "serviceItemId": "57b80c9617ea4dd887e0e49330d83653"
}
